BEGIN:VCALENDAR
VERSION:2.0
PRODID:-// - ECPv6.9.1//NONSGML v1.0//EN
CALSCALE:GREGORIAN
METHOD:PUBLISH
X-ORIGINAL-URL:https://www.leedspuja.com
X-WR-CALDESC:Events for 
REFRESH-INTERVAL;VALUE=DURATION:PT1H
X-Robots-Tag:noindex
X-PUBLISHED-TTL:PT1H
BEGIN:VTIMEZONE
TZID:UTC
BEGIN:STANDARD
TZOFFSETFROM:+0000
TZOFFSETTO:+0000
TZNAME:UTC
DTSTART:20240101T000000
END:STANDARD
END:VTIMEZONE
BEGIN:VEVENT
DTSTART;VALUE=DATE:20241012
DTEND;VALUE=DATE:20241013
DTSTAMP:20260419T122244
CREATED:20251002T031544Z
LAST-MODIFIED:20250918T151149Z
UID:1004-1728691200-1728777599@www.leedspuja.com
SUMMARY:Bijoya Dashami
DESCRIPTION:
URL:https://www.leedspuja.com/event/bijoya-dashami/
END:VEVENT
BEGIN:VEVENT
DTSTART;TZID=UTC:20241011T103000
DTEND;TZID=UTC:20241011T213000
DTSTAMP:20260419T122244
CREATED:20250930T190343Z
LAST-MODIFIED:20250918T150752Z
UID:1000-1728642600-1728682200@www.leedspuja.com
SUMMARY:Maha Ashtami
DESCRIPTION:
URL:https://www.leedspuja.com/event/maha-ashtami/
END:VEVENT
BEGIN:VEVENT
DTSTART;TZID=UTC:20241009T190000
DTEND;TZID=UTC:20241009T213000
DTSTAMP:20260419T122244
CREATED:20240908T184717Z
LAST-MODIFIED:20240908T185901Z
UID:990-1728500400-1728509400@www.leedspuja.com
SUMMARY:Maha Sasthi
DESCRIPTION:
URL:https://www.leedspuja.com/event/maha-sasthi/
END:VEVENT
END:VCALENDAR